BEGIN:VCALENDAR
PRODID:brasil.gov.agenda
VERSION:1.0
BEGIN:VEVENT
DTSTART:20220328T110000Z
DTEND:20220328T120000Z
DCREATED:20220330T133650Z
UID:Compromisso-0cdfb608d165422abc724afb72094f28
SEQUENCE:0
LAST-MODIFIED:20220330T133650Z
SUMMARY:Reunião Reitor\, PROEXC e Equipe do Projeto Universidade nas Comunidades.
DESCRIPTION:Projeto Universidade nas Comunidades
LOCATION:Reitoria
PRIORITY:3
TRANSP:0
END:VEVENT
END:VCALENDAR
