BEGIN:VCALENDAR
PRODID:brasil.gov.agenda
VERSION:1.0
BEGIN:VEVENT
DTSTART:20220328T080000Z
DTEND:20220328T110000Z
DCREATED:20220330T133616Z
UID:Compromisso-23c7b5847ef24efcae133866d75860b3
SEQUENCE:0
LAST-MODIFIED:20220330T133616Z
SUMMARY:33ª Reunião do CGIRC
DESCRIPTION:Aprovação da  “Minuta de atualização da Política de
  Gestão de Riscos da UFVJM”
LOCATION:Reitoria
PRIORITY:3
TRANSP:0
END:VEVENT
END:VCALENDAR
