BEGIN:VCALENDAR
PRODID:brasil.gov.agenda
VERSION:1.0
BEGIN:VEVENT
DTSTART:20220324T140000Z
DTEND:20220324T160000Z
DCREATED:20220330T133214Z
UID:Compromisso-f2af3fd7a38646c09954f28c4db40d43
SEQUENCE:0
LAST-MODIFIED:20220330T133214Z
SUMMARY:Reunião Reitor
DESCRIPTION:Elaboração de Projeto MCTI
LOCATION:Reitoria
PRIORITY:3
TRANSP:0
END:VEVENT
END:VCALENDAR
