BEGIN:VCALENDAR
PRODID:brasil.gov.agenda
VERSION:1.0
BEGIN:VEVENT
DTSTART:20220321T080000Z
DTEND:20220321T084000Z
DCREATED:20220322T124705Z
UID:Compromisso-d2e3ce7fb1f84384baea48e629c2f68b
SEQUENCE:0
LAST-MODIFIED:20220322T124706Z
SUMMARY:Reunião Reitor e Direção da FAMED
DESCRIPTION:Projetos e Recursos para a Unidade Acadêmica
LOCATION:Reitoria
PRIORITY:3
TRANSP:0
END:VEVENT
END:VCALENDAR
