BEGIN:VCALENDAR
PRODID:brasil.gov.agenda
VERSION:1.0
BEGIN:VEVENT
DTSTART:20220321T090000Z
DTEND:20220321T100000Z
DCREATED:20220322T124946Z
UID:Compromisso-6c6336652bf6473fa1c716d260ee8ecc
SEQUENCE:0
LAST-MODIFIED:20220322T124947Z
SUMMARY:Reunião Reitor e Direção da FACET
DESCRIPTION:Projetos FACET
LOCATION:Reitoria
PRIORITY:3
TRANSP:0
END:VEVENT
END:VCALENDAR
