BEGIN:VCALENDAR
PRODID:brasil.gov.agenda
VERSION:1.0
BEGIN:VEVENT
DTSTART:20220321T143000Z
DTEND:20220321T170000Z
DCREATED:20220322T125051Z
UID:Compromisso-36576a82a5da4f4495a98d458658e1a0
SEQUENCE:0
LAST-MODIFIED:20220322T125051Z
SUMMARY:Reunião CONSIC
DESCRIPTION:2º Fórum de políticas interinstitucionais UFVJM/Revisã
 o da Resolução Interna do CONSIC/Atualização dos novos membros ext
 ernos
LOCATION:Reitoria
PRIORITY:3
TRANSP:0
END:VEVENT
END:VCALENDAR
