BEGIN:VCALENDAR
PRODID:brasil.gov.agenda
VERSION:1.0
BEGIN:VEVENT
DTSTART:20220321T100000Z
DTEND:20220321T120000Z
DCREATED:20220322T125010Z
UID:Compromisso-bf3ca4765a24479cbc998ced86768e87
SEQUENCE:0
LAST-MODIFIED:20220322T125010Z
SUMMARY:Despachos Internos
LOCATION:Reitoria
PRIORITY:3
TRANSP:0
END:VEVENT
END:VCALENDAR
