BEGIN:VCALENDAR
PRODID:brasil.gov.agenda
VERSION:1.0
BEGIN:VEVENT
DTSTART:20220317T090000Z
DTEND:20220317T100000Z
DCREATED:20220322T122927Z
UID:Compromisso-d9e4009782b143609cbacfe9bf284bb5
SEQUENCE:0
LAST-MODIFIED:20220322T122927Z
SUMMARY:Reunião Reitor e Prefeito de Curvelo
DESCRIPTION:Ajustes do Termo de Comodato\; Adequações na infraestrut
 ura da fazenda\; e Reinício das atividades presenciais na fazenda do 
 Moura.
LOCATION:Reitoria
PRIORITY:3
TRANSP:0
END:VEVENT
END:VCALENDAR
