BEGIN:VCALENDAR
PRODID:brasil.gov.agenda
VERSION:1.0
BEGIN:VEVENT
DTSTART:20220316T080000Z
DTEND:20220316T120000Z
DCREATED:20220322T122608Z
UID:Compromisso-e129e3d31e274f608ccafbd494957303
SEQUENCE:0
LAST-MODIFIED:20220322T122608Z
SUMMARY:Despachos Internos
LOCATION:Reitoria
PRIORITY:3
TRANSP:0
END:VEVENT
END:VCALENDAR
