BEGIN:VCALENDAR
PRODID:brasil.gov.agenda
VERSION:1.0
BEGIN:VEVENT
DTSTART:20220314T150000Z
DTEND:20220314T000000Z
DCREATED:20220314T121544Z
UID:Compromisso-a1e410b690e64043b95d330e353047f5
SEQUENCE:0
LAST-MODIFIED:20220314T121630Z
SUMMARY:Reunião Governamental: Prof. José Cândido Lustosa Bittencourt de Albuquerque - Reitor da Universidade Federal do Ceará
DESCRIPTION:Orçamento das universidades e da criação de fundos patr
 imoniais
LOCATION:Gabinete do Ministro da Educação (Esplanada dos Ministérios Bloco “L”\, 8º andar)
PRIORITY:3
TRANSP:0
END:VEVENT
END:VCALENDAR
