BEGIN:VCALENDAR
PRODID:brasil.gov.agenda
VERSION:1.0
BEGIN:VEVENT
DTSTART:20220311T160000Z
DTEND:20220311T180000Z
DCREATED:20220311T134010Z
UID:Compromisso-9b61ebd4817149cfbe59938136b568d0
SEQUENCE:0
LAST-MODIFIED:20220311T134010Z
SUMMARY:Despachos Internos
LOCATION:Reitoria
PRIORITY:3
TRANSP:0
END:VEVENT
END:VCALENDAR
