BEGIN:VCALENDAR
PRODID:brasil.gov.agenda
VERSION:1.0
BEGIN:VEVENT
DTSTART:20220304T080000Z
DTEND:20220304T120000Z
DCREATED:20220303T195754Z
UID:Compromisso-d5b18f0c11d24cd6a66c922ac409f395
SEQUENCE:0
LAST-MODIFIED:20220303T195754Z
SUMMARY:Despachos Internos
LOCATION:Reitoria
PRIORITY:3
TRANSP:0
END:VEVENT
END:VCALENDAR
