BEGIN:VCALENDAR
PRODID:brasil.gov.agenda
VERSION:1.0
BEGIN:VEVENT
DTSTART:20220304T140000Z
DTEND:20220304T180000Z
DCREATED:20220303T195817Z
UID:Compromisso-e0cf785502324b8f9cf22840fe5978af
SEQUENCE:0
LAST-MODIFIED:20220303T195817Z
SUMMARY:Despachos Internos
LOCATION:Reitoria
PRIORITY:3
TRANSP:0
END:VEVENT
END:VCALENDAR
