BEGIN:VCALENDAR
PRODID:brasil.gov.agenda
VERSION:1.0
BEGIN:VEVENT
DTSTART:20220303T000000Z
DTEND:20220303T000000Z
DCREATED:20220303T195703Z
UID:Compromisso-8beb60c625a74fd4bf80b97591df75fa
SEQUENCE:0
LAST-MODIFIED:20220303T195703Z
SUMMARY:Ponto Facultativo
LOCATION:Reitoria
PRIORITY:3
TRANSP:0
END:VEVENT
END:VCALENDAR
