BEGIN:VCALENDAR
PRODID:brasil.gov.agenda
VERSION:1.0
BEGIN:VEVENT
DTSTART:20220302T000000Z
DTEND:20220302T000000Z
DCREATED:20220303T195611Z
UID:Compromisso-9d7f314680a741a9ab4c8fa2e11aecd0
SEQUENCE:0
LAST-MODIFIED:20220303T195611Z
SUMMARY:Ponto Facultativo
LOCATION:Reitoria
PRIORITY:3
TRANSP:0
END:VEVENT
END:VCALENDAR
