BEGIN:VCALENDAR
PRODID:brasil.gov.agenda
VERSION:1.0
BEGIN:VEVENT
DTSTART:20220228T000000Z
DTEND:20220228T000000Z
DCREATED:20220303T195519Z
UID:Compromisso-ee0242a88bdf4f698f41a7220e0e3bcf
SEQUENCE:0
LAST-MODIFIED:20220303T195519Z
SUMMARY:Ponto Facultativo
LOCATION:Reitoria
PRIORITY:3
TRANSP:0
END:VEVENT
END:VCALENDAR
