BEGIN:VCALENDAR
PRODID:brasil.gov.agenda
VERSION:1.0
BEGIN:VEVENT
DTSTART:20220225T160000Z
DTEND:20220225T180000Z
DCREATED:20220303T195407Z
UID:Compromisso-9255576ba5eb42e79fd5a4038297e61d
SEQUENCE:0
LAST-MODIFIED:20220303T195408Z
SUMMARY:Reunião Reitor e Pró-Reitores
DESCRIPTION:Discussão do Plano de Contingência
LOCATION:Reitoria
PRIORITY:3
TRANSP:0
END:VEVENT
END:VCALENDAR
