BEGIN:VCALENDAR
PRODID:brasil.gov.agenda
VERSION:1.0
BEGIN:VEVENT
DTSTART:20220225T140000Z
DTEND:20220225T160000Z
DCREATED:20220303T195334Z
UID:Compromisso-5419cb9cc9294a9d9634812a52512182
SEQUENCE:0
LAST-MODIFIED:20220303T195334Z
SUMMARY:Despachos Internos
LOCATION:Reitoria
PRIORITY:3
TRANSP:0
END:VEVENT
END:VCALENDAR
