BEGIN:VCALENDAR
PRODID:brasil.gov.agenda
VERSION:1.0
BEGIN:VEVENT
DTSTART:20220225T083000Z
DTEND:20220225T130000Z
DCREATED:20220303T195315Z
UID:Compromisso-04dddd38401540b588d27cc997162729
SEQUENCE:0
LAST-MODIFIED:20220303T195315Z
SUMMARY:177ª reunião sendo a 130ª sessão em caráter ordinário do CONSEPE
LOCATION:Reitoria
PRIORITY:3
TRANSP:0
END:VEVENT
END:VCALENDAR
