BEGIN:VCALENDAR
PRODID:brasil.gov.agenda
VERSION:1.0
BEGIN:VEVENT
DTSTART:20220224T080000Z
DTEND:20220224T093000Z
DCREATED:20220303T195110Z
UID:Compromisso-0d6f821c073c408abef04cb00867146f
SEQUENCE:0
LAST-MODIFIED:20220303T195110Z
SUMMARY:Reunião Reitor\, DTI\, DGI e PRPPG
DESCRIPTION:Painéis da UFVJM
LOCATION:Reitoria
PRIORITY:3
TRANSP:0
END:VEVENT
END:VCALENDAR
