BEGIN:VCALENDAR
PRODID:brasil.gov.agenda
VERSION:1.0
BEGIN:VEVENT
DTSTART:20220224T093000Z
DTEND:20220224T120000Z
DCREATED:20220303T195133Z
UID:Compromisso-3a35c0bdfc034d20a3d11fcbcbfc1a56
SEQUENCE:0
LAST-MODIFIED:20220303T195133Z
SUMMARY:Despachos Internos
LOCATION:Reitoria
PRIORITY:3
TRANSP:0
END:VEVENT
END:VCALENDAR
