BEGIN:VCALENDAR
PRODID:brasil.gov.agenda
VERSION:1.0
BEGIN:VEVENT
DTSTART:20220223T160000Z
DTEND:20220223T160000Z
DCREATED:20220303T194917Z
UID:Compromisso-dec2906e0e91498b8f7a26a3e077e9f5
SEQUENCE:0
LAST-MODIFIED:20220303T194917Z
SUMMARY:Reunião Reitor e Direção FCA
DESCRIPTION:Apoio de Servidor Técnico
LOCATION:Reitoria
PRIORITY:3
TRANSP:0
END:VEVENT
END:VCALENDAR
