BEGIN:VCALENDAR
PRODID:brasil.gov.agenda
VERSION:1.0
BEGIN:VEVENT
DTSTART:20220223T140000Z
DTEND:20220223T160000Z
DCREATED:20220303T194843Z
UID:Compromisso-a0891eed0e394e4193750360572bfab3
SEQUENCE:0
LAST-MODIFIED:20220303T194844Z
SUMMARY:Despachos Internos
LOCATION:Reitoria
PRIORITY:3
TRANSP:0
END:VEVENT
END:VCALENDAR
