BEGIN:VCALENDAR
PRODID:brasil.gov.agenda
VERSION:1.0
BEGIN:VEVENT
DTSTART:20220223T080000Z
DTEND:20220223T130000Z
DCREATED:20220303T194806Z
UID:Compromisso-7bf67bc08cd74fe0b65d6f8a3e9f131c
SEQUENCE:0
LAST-MODIFIED:20220303T194806Z
SUMMARY:268.ª  reunião\, sendo a 51.ª sessão em caráter ordinário do CONSU
LOCATION:Reitoria
PRIORITY:3
TRANSP:0
END:VEVENT
END:VCALENDAR
