BEGIN:VCALENDAR
PRODID:brasil.gov.agenda
VERSION:1.0
BEGIN:VEVENT
DTSTART:20220222T160000Z
DTEND:20220222T180000Z
DCREATED:20220303T194651Z
UID:Compromisso-68e44d48969e4bd39774b3df1b350d2d
SEQUENCE:0
LAST-MODIFIED:20220303T194651Z
SUMMARY:Reunião reitor e PROPLAN
DESCRIPTION:Elaboração de contrato de vigilância\; Remanejamento de
  Servidor da Diplac\; Itens de Estoque Comuns.
LOCATION:Reitoria
PRIORITY:3
TRANSP:0
END:VEVENT
END:VCALENDAR
