BEGIN:VCALENDAR
PRODID:brasil.gov.agenda
VERSION:1.0
BEGIN:VEVENT
DTSTART:20220221T140000Z
DTEND:20220221T160000Z
DCREATED:20220303T194417Z
UID:Compromisso-66c3819d556f470ab19b0a1c66cb9329
SEQUENCE:0
LAST-MODIFIED:20220303T194417Z
SUMMARY:Webinário da Evolução: Modernização da UFVJM - Assinatura do Programa TransformaGov
LOCATION:Reitoria
PRIORITY:3
TRANSP:0
END:VEVENT
END:VCALENDAR
