BEGIN:VCALENDAR
PRODID:brasil.gov.agenda
VERSION:1.0
BEGIN:VEVENT
DTSTART:20220221T080000Z
DTEND:20220221T120000Z
DCREATED:20220303T194342Z
UID:Compromisso-67c4e39e3e8741a69da8d13edc534098
SEQUENCE:0
LAST-MODIFIED:20220303T194342Z
SUMMARY:Despachos Internos
LOCATION:Reitoria
PRIORITY:3
TRANSP:0
END:VEVENT
END:VCALENDAR
