BEGIN:VCALENDAR
PRODID:brasil.gov.agenda
VERSION:1.0
BEGIN:VEVENT
DTSTART:20220221T160000Z
DTEND:20220221T180000Z
DCREATED:20220303T194435Z
UID:Compromisso-645e2e1e1c2f475ea9c5010ccecc0ea1
SEQUENCE:0
LAST-MODIFIED:20220303T194435Z
SUMMARY:Despachos Internos
LOCATION:Reitoria
PRIORITY:3
TRANSP:0
END:VEVENT
END:VCALENDAR
