BEGIN:VCALENDAR
PRODID:brasil.gov.agenda
VERSION:1.0
BEGIN:VEVENT
DTSTART:20220217T080000Z
DTEND:20220217T090000Z
DCREATED:20220217T133352Z
UID:Compromisso-78ebf352ed3a48f585c93faee61a61d1
SEQUENCE:0
LAST-MODIFIED:20220217T133352Z
SUMMARY:Reunião Pró-Reitores e Diretores
DESCRIPTION:Definição de prazos para finalização dos espaços dos 
 setores de produção.
LOCATION:Reitoria
PRIORITY:3
TRANSP:0
END:VEVENT
END:VCALENDAR
