BEGIN:VCALENDAR
PRODID:brasil.gov.agenda
VERSION:1.0
BEGIN:VEVENT
DTSTART:20220217T100000Z
DTEND:20220217T120000Z
DCREATED:20220217T133520Z
UID:Compromisso-7a6af7c9ab79432799dc96edba1ecd03
SEQUENCE:0
LAST-MODIFIED:20220217T133521Z
SUMMARY:Reunião Diretor da FAMMUC e Prof. Daniel Vilela
DESCRIPTION:Situação do Funcionamento dos laboratórios de Medicina 
 (FAMMUC E FAMED).
LOCATION:Reitoria
PRIORITY:3
TRANSP:0
END:VEVENT
END:VCALENDAR
