BEGIN:VCALENDAR
PRODID:brasil.gov.agenda
VERSION:1.0
BEGIN:VEVENT
DTSTART:20220217T140000Z
DTEND:20220217T180000Z
DCREATED:20220217T133543Z
UID:Compromisso-33aba12bab5d43f0a2f397b75e56f12a
SEQUENCE:0
LAST-MODIFIED:20220217T133543Z
SUMMARY:Despachos Internos
LOCATION:Reitoria
PRIORITY:3
TRANSP:0
END:VEVENT
END:VCALENDAR
