BEGIN:VCALENDAR
PRODID:brasil.gov.agenda
VERSION:1.0
BEGIN:VEVENT
DTSTART:20220216T140000Z
DTEND:20220216T180000Z
DCREATED:20220217T133238Z
UID:Compromisso-64f1df9176dc4928a8771e6a5b0c602c
SEQUENCE:0
LAST-MODIFIED:20220217T133238Z
SUMMARY:Despachos Internos
LOCATION:Reitoria
PRIORITY:3
TRANSP:0
END:VEVENT
END:VCALENDAR
