BEGIN:VCALENDAR
PRODID:brasil.gov.agenda
VERSION:1.0
BEGIN:VEVENT
DTSTART:20220215T160000Z
DTEND:20220215T180000Z
DCREATED:20220217T133113Z
UID:Compromisso-e0ffb1b4c7ea4468bea5ce3bee35395a
SEQUENCE:0
LAST-MODIFIED:20220217T133113Z
SUMMARY:Reunião com Pró-Reitores e Diretores
DESCRIPTION:II Fórum de Políticas Interinstitucionais da UFVJM
LOCATION:Reitoria
PRIORITY:3
TRANSP:0
END:VEVENT
END:VCALENDAR
