BEGIN:VCALENDAR
PRODID:brasil.gov.agenda
VERSION:1.0
BEGIN:VEVENT
DTSTART:20220215T100000Z
DTEND:20220215T120000Z
DCREATED:20220217T133014Z
UID:Compromisso-031300b8d5a945e6bc60565ebe0ad3ec
SEQUENCE:0
LAST-MODIFIED:20220217T133014Z
SUMMARY:Reunião com a Secretaria de Políticas e Ações de Saúde do Estado de Minas Gerais
DESCRIPTION:Planejamento de Especialidades em Saúde.
LOCATION:Reitoria
PRIORITY:3
TRANSP:0
END:VEVENT
END:VCALENDAR
