BEGIN:VCALENDAR
PRODID:brasil.gov.agenda
VERSION:1.0
BEGIN:VEVENT
DTSTART:20220215T140000Z
DTEND:20220215T160000Z
DCREATED:20220217T133038Z
UID:Compromisso-4028bc01e6a94ab29675f6dbd45e0f1c
SEQUENCE:0
LAST-MODIFIED:20220217T133038Z
SUMMARY:Despachos Internos
LOCATION:Reitoria
PRIORITY:3
TRANSP:0
END:VEVENT
END:VCALENDAR
