BEGIN:VCALENDAR
PRODID:brasil.gov.agenda
VERSION:1.0
BEGIN:VEVENT
DTSTART:20220214T080000Z
DTEND:20220214T100000Z
DCREATED:20220217T132656Z
UID:Compromisso-377005e61c8f401f862e8a7dfad050fd
SEQUENCE:0
LAST-MODIFIED:20220217T132656Z
SUMMARY:Reunião IECT e Divisão de Ensino\, Pesquisa e Extensão - Janaúba
DESCRIPTION:Situação dos cursos de graduação do Campus de Janaúba
 .
LOCATION:Reitoria
PRIORITY:3
TRANSP:0
END:VEVENT
END:VCALENDAR
