BEGIN:VCALENDAR
PRODID:brasil.gov.agenda
VERSION:1.0
BEGIN:VEVENT
DTSTART:20220214T110000Z
DTEND:20220214T120000Z
DCREATED:20220217T132803Z
UID:Compromisso-53569fc13faf40cb9c26fd1f8005df2c
SEQUENCE:0
LAST-MODIFIED:20220217T132803Z
SUMMARY:Despachos Internos
LOCATION:Reitoria
PRIORITY:3
TRANSP:0
END:VEVENT
END:VCALENDAR
