BEGIN:VCALENDAR
PRODID:brasil.gov.agenda
VERSION:1.0
BEGIN:VEVENT
DTSTART:20220211T170000Z
DTEND:20220211T170000Z
DCREATED:20220214T132831Z
UID:Compromisso-fb2034ad5b374a88b8c5b35bf8b4eae9
SEQUENCE:0
LAST-MODIFIED:20220214T132831Z
SUMMARY:Reunião Pró-Reitores\, Dasa e PGF
DESCRIPTION:Revisão da Portaria 2224.
LOCATION:Reitoria
PRIORITY:3
TRANSP:0
END:VEVENT
END:VCALENDAR
