BEGIN:VCALENDAR
PRODID:brasil.gov.agenda
VERSION:1.0
BEGIN:VEVENT
DTSTART:20220211T160000Z
DTEND:20220211T170000Z
DCREATED:20220214T132756Z
UID:Compromisso-d7f0ed50e86442dc89fb65e9a4b0ad53
SEQUENCE:0
LAST-MODIFIED:20220214T132756Z
SUMMARY:Reunião FAMED
DESCRIPTION:Prosposta realizada a FAMED e FCBS
LOCATION:Reitoria
PRIORITY:3
TRANSP:0
END:VEVENT
END:VCALENDAR
