BEGIN:VCALENDAR
PRODID:brasil.gov.agenda
VERSION:1.0
BEGIN:VEVENT
DTSTART:20220211T090000Z
DTEND:20220211T100000Z
DCREATED:20220214T132542Z
UID:Compromisso-97bc555ce3a54abc96b0111d6003024a
SEQUENCE:0
LAST-MODIFIED:20220214T132542Z
SUMMARY:Reunião Diretora da UEMG Campus Diamantina
DESCRIPTION:Parceria Institucional UEMG e UFVJM.
LOCATION:Reitoria
PRIORITY:3
TRANSP:0
END:VEVENT
END:VCALENDAR
