BEGIN:VCALENDAR
PRODID:brasil.gov.agenda
VERSION:1.0
BEGIN:VEVENT
DTSTART:20220211T100000Z
DTEND:20220211T110000Z
DCREATED:20220214T132610Z
UID:Compromisso-6deab15374d24812b500f14b6f2f14d8
SEQUENCE:0
LAST-MODIFIED:20220214T132610Z
SUMMARY:Reunião Direção ICT\, Prof. Gustavo Molina
LOCATION:Reitoria
PRIORITY:3
TRANSP:0
END:VEVENT
END:VCALENDAR
