BEGIN:VCALENDAR
PRODID:brasil.gov.agenda
VERSION:1.0
BEGIN:VEVENT
DTSTART:20220211T110000Z
DTEND:20220211T120000Z
DCREATED:20220214T132649Z
UID:Compromisso-37cd4bbb032d4a86bff9703807956070
SEQUENCE:0
LAST-MODIFIED:20220214T132650Z
SUMMARY:Reunião DICOM
DESCRIPTION:Trabalho no setor de Portal – DICOM
LOCATION:Reitoria
PRIORITY:3
TRANSP:0
END:VEVENT
END:VCALENDAR
