BEGIN:VCALENDAR
PRODID:brasil.gov.agenda
VERSION:1.0
BEGIN:VEVENT
DTSTART:20220211T080000Z
DTEND:20220211T090000Z
DCREATED:20220214T131917Z
UID:Compromisso-2f5409ca44b24cf980f6ad0b86c95d2c
SEQUENCE:0
LAST-MODIFIED:20220214T132422Z
SUMMARY:Reunião Gerentes da Caixa Econômica Federal
DESCRIPTION:Apresentação do novo gerente.
LOCATION:Reitoria
PRIORITY:3
TRANSP:0
END:VEVENT
END:VCALENDAR
