BEGIN:VCALENDAR
PRODID:brasil.gov.agenda
VERSION:1.0
BEGIN:VEVENT
DTSTART:20220210T100000Z
DTEND:20220210T120000Z
DCREATED:20220214T132236Z
UID:Compromisso-7c3b19787b9e42c59a4276551434b1f0
SEQUENCE:0
LAST-MODIFIED:20220214T132236Z
SUMMARY:Reunião Secretária de Processos Administrativos
DESCRIPTION:Processos Administrativos
LOCATION:Reitoria
PRIORITY:3
TRANSP:0
END:VEVENT
END:VCALENDAR
