BEGIN:VCALENDAR
PRODID:brasil.gov.agenda
VERSION:1.0
BEGIN:VEVENT
DTSTART:20220210T080000Z
DTEND:20220210T100000Z
DCREATED:20220214T132144Z
UID:Compromisso-530db5ab6e2641b6a90bc4cae039bb8e
SEQUENCE:0
LAST-MODIFIED:20220214T132204Z
SUMMARY:Reunião Curso de Odontologia
DESCRIPTION:Reorganização do Curso de Odontologia.
LOCATION:Reitoria
PRIORITY:3
TRANSP:0
END:VEVENT
END:VCALENDAR
