BEGIN:VCALENDAR
PRODID:brasil.gov.agenda
VERSION:1.0
BEGIN:VEVENT
DTSTART:20220209T100000Z
DTEND:20220209T120000Z
DCREATED:20220214T130025Z
UID:Compromisso-120f18ca154e40bd9e7ced127d3af291
SEQUENCE:0
LAST-MODIFIED:20220214T130025Z
SUMMARY:Reunião  PROEXC PROGRAD PRPPG DICOM e DRI
DESCRIPTION:Tradução do portal
LOCATION:Reitoria
PRIORITY:3
TRANSP:0
END:VEVENT
END:VCALENDAR
