BEGIN:VCALENDAR
PRODID:brasil.gov.agenda
VERSION:1.0
BEGIN:VEVENT
DTSTART:20220209T090000Z
DTEND:20220209T100000Z
DCREATED:20220214T125947Z
UID:Compromisso-15be83b6f704453ab67b89ec30252281
SEQUENCE:0
LAST-MODIFIED:20220214T125947Z
SUMMARY:Reunião Presencial Reitor\, Ouvidoria\, SECPAD\, Comissão de Ética e PGF
DESCRIPTION:Orientações para resolução de conflitos - Unidade Gest
 ão de Integridade
LOCATION:Reitoria
PRIORITY:3
TRANSP:0
END:VEVENT
END:VCALENDAR
