BEGIN:VCALENDAR
PRODID:brasil.gov.agenda
VERSION:1.0
BEGIN:VEVENT
DTSTART:20220209T080000Z
DTEND:20220209T090000Z
DCREATED:20220214T125903Z
UID:Compromisso-cde9bb2d72be496db09634b132f8b40d
SEQUENCE:0
LAST-MODIFIED:20220214T125903Z
SUMMARY:Reunião Presencial Reitor e Prof.ª Patrícia Furtado Gonçalves
DESCRIPTION:Programa de Pós-Graduação em Odontologia.
LOCATION:Reitoria
PRIORITY:3
TRANSP:0
END:VEVENT
END:VCALENDAR
