BEGIN:VCALENDAR
PRODID:brasil.gov.agenda
VERSION:1.0
BEGIN:VEVENT
DTSTART:20220209T140000Z
DTEND:20220209T180000Z
DCREATED:20220214T130051Z
UID:Compromisso-af1e75cdc9ce4b45b8e7e0fd13f7dda1
SEQUENCE:0
LAST-MODIFIED:20220214T130051Z
SUMMARY:267ª reunião -115ª em caráter extraordinário do CONSU
LOCATION:Reitoria
PRIORITY:3
TRANSP:0
END:VEVENT
END:VCALENDAR
