BEGIN:VCALENDAR
PRODID:brasil.gov.agenda
VERSION:1.0
BEGIN:VEVENT
DTSTART:20220208T100000Z
DTEND:20220208T120000Z
DCREATED:20220214T125733Z
UID:Compromisso-1fb483d9226b4d84b67c1a9b07ea972c
SEQUENCE:0
LAST-MODIFIED:20220214T125733Z
SUMMARY:REUNIÃO SUPERAGRO
DESCRIPTION:Organização interna de apoio a gestão da SUPERAGRO\; Ap
 resentação do levantamento para o Programa Setores Integrados.
LOCATION:Reitoria
PRIORITY:3
TRANSP:0
END:VEVENT
END:VCALENDAR
